BEGIN:VCALENDAR
VERSION:2.0
PRODID:-//Fotografie &amp; Kommunikation e.V. - ECPv6.15.20//NONSGML v1.0//EN
CALSCALE:GREGORIAN
METHOD:PUBLISH
X-ORIGINAL-URL:https://wirsindfoto.com
X-WR-CALDESC:Veranstaltungen für Fotografie &amp; Kommunikation e.V.
REFRESH-INTERVAL;VALUE=DURATION:PT1H
X-Robots-Tag:noindex
X-PUBLISHED-TTL:PT1H
BEGIN:VTIMEZONE
TZID:Europe/Berlin
BEGIN:DAYLIGHT
TZOFFSETFROM:+0100
TZOFFSETTO:+0200
TZNAME:CEST
DTSTART:20230326T010000
END:DAYLIGHT
BEGIN:STANDARD
TZOFFSETFROM:+0200
TZOFFSETTO:+0100
TZNAME:CET
DTSTART:20231029T010000
END:STANDARD
BEGIN:DAYLIGHT
TZOFFSETFROM:+0100
TZOFFSETTO:+0200
TZNAME:CEST
DTSTART:20240331T010000
END:DAYLIGHT
BEGIN:STANDARD
TZOFFSETFROM:+0200
TZOFFSETTO:+0100
TZNAME:CET
DTSTART:20241027T010000
END:STANDARD
BEGIN:DAYLIGHT
TZOFFSETFROM:+0100
TZOFFSETTO:+0200
TZNAME:CEST
DTSTART:20250330T010000
END:DAYLIGHT
BEGIN:STANDARD
TZOFFSETFROM:+0200
TZOFFSETTO:+0100
TZNAME:CET
DTSTART:20251026T010000
END:STANDARD
END:VTIMEZONE
BEGIN:VEVENT
DTSTART;TZID=Europe/Berlin:20241024T180000
DTEND;TZID=Europe/Berlin:20241024T190000
DTSTAMP:20260422T055156
CREATED:20240921T092732Z
LAST-MODIFIED:20240921T093924Z
UID:3669-1729792800-1729796400@wirsindfoto.com
SUMMARY:VERNISSAGE // 2. Vereinsausstellung "Region Hannover - Stadt\, Land\, Fluss" am 24.10.2024
DESCRIPTION:Wir machen es wieder. Unsere 2. Vereins-Ausstellung wird am 24.10.2024 mit einer Vernissage eröffnet. Unter dem Titel „Region Hannover – Stadt\, Land\, Fluss“ präsentieren wir die vielfältigen und faszinierenden Facetten unserer Heimatregion durch die unterschiedlichen Augen unserer Mitglieder. Hier auch mit allen 49 kuratierten Fotos. \nZur Begrüßung wartet wie immer ein Glas Sekt oder Selters\, um gemeinsam auf den Erfolg dieser Ausstellung anzustoßen. Nach der Begrüßung laden wir dazu ein\, die beeindruckenden Fotografien zu erkunden und die Geschichten hinter den Bildern zu entdecken. \nJedes Mitglied\, das sich an dieser Ausstellung beteiligt hat\, stellt mindestens ein Foto aus. Kuratiert wurden die Fotos durch den Arbeitskreis Ausstellung .Die Ausstellung bringt die Vielfalt unserer Region Hannover eindrucksvoll zur Geltung. \nWir hoffen\, dass viele von Euch die Gelegenheit nutzen\, um diese Vernissage zu besuchen und die kreative Arbeit unserer Mitglieder zu würdigen. Eure Teilnahme macht diese Vernissage erst zu einem unvergesslichen Ereignis. Alle Interessierten sind herzlich eingeladen. \nWir freuen uns auf eine inspirierende Vernissage mit Euch!  \nFoto: Anja Mickel
URL:https://wirsindfoto.com/event/vernissage-2-vereinsausstellung-region-hannover-stadt-land-fluss-am-24-10/
LOCATION:MHH KunstGang\, Carl-Neuberg-Straße 1\, Hannover\, 30625
CATEGORIES:Vernissage
ATTACH;FMTTYPE=image/jpeg:https://wirsindfoto.com/wp-content/uploads/2024/09/WhatsApp-Bild-2024-09-19-um-15.36.39_10a097fc.jpg
END:VEVENT
END:VCALENDAR